BEGIN:VCALENDAR
VERSION:2.0
PRODID:-//Voice - ECPv6.1.3//NONSGML v1.0//EN
CALSCALE:GREGORIAN
METHOD:PUBLISH
X-ORIGINAL-URL:https://voicecsea.org
X-WR-CALDESC:Events for Voice
REFRESH-INTERVAL;VALUE=DURATION:PT1H
X-Robots-Tag:noindex
X-PUBLISHED-TTL:PT1H
BEGIN:VTIMEZONE
TZID:America/New_York
BEGIN:DAYLIGHT
TZOFFSETFROM:-0500
TZOFFSETTO:-0400
TZNAME:EDT
DTSTART:20260308T070000
END:DAYLIGHT
BEGIN:STANDARD
TZOFFSETFROM:-0400
TZOFFSETTO:-0500
TZNAME:EST
DTSTART:20261101T060000
END:STANDARD
END:VTIMEZONE
BEGIN:VEVENT
DTSTART;TZID=America/New_York:20260302T080000
DTEND;TZID=America/New_York:20260302T170000
DTSTAMP:20260420T113103
CREATED:20260304T152707Z
LAST-MODIFIED:20260304T152707Z
UID:7588-1772438400-1772470800@voicecsea.org
SUMMARY:Monroe County Chapter Meeting
DESCRIPTION:Monroe County Chapter Meeting\nThursday\, March 26\, 2026 \nCSEA/VOICE invites you to join us for a very important Monroe County Chapter Meeting. We will be discussing in detail updates that affect your business.  Plan now to attend this meeting. We will also update members on training\, membership\, and other pertinent information.\n\nMonroe County DSS will be joining us for this meeting.\n\nMUST BE A MEMBER TO ATTEND\n\nDate: Thursday\, March 26\, 2026\nTime: 6:00 p.m. – 8:00 p.m.\nLocation: 750 East Ave\nRochester\, NY 14607\n\nLight snacks and refreshments will be served at this meeting.\n\n*Registration is required to attend.*\n\nRegister Online Here: https://memberlink.cseany.org/Event.axd?e=2246\n\nOr by calling the CSEA/VOICE Resource Center at (877) 483-2732 or via email at voice@cseainc.org.\n\nMEETING AGENDA:\n1. Welcome/ Introductions\n2. DSS Updates\n3. OCFS Updates\n4. VOICE Updates\n5. Professional Development: Trainings\n6. Membership and Leadership\n7.  Other Business\n8.  Next meeting & Closing\n9.   Q & A \n\n\nReunión del Capítulo del Condado de Monroe\n Jueves 26 de marzo de 2026 \nCSEA/VOICE le invita a unirse a una importante reunión del Capítulo del Condado de Monroe. Analizaremos en detalle las novedades que afectan a su negocio. Planifique su asistencia. También informaremos a los miembros sobre capacitación\, membresía y otra información relevante.\n\nDSS del condado de Monroe se unirá a nosotros para esta reunión.\n\nDEBE SER MIEMBRO PARA ASISTIR\n\nFecha: Jueves\, 26 de marzo de 2026\nHora: 6:00 p.m. – 8:00 p.m.\nLugar: Workers United Hall\n750 East Ave\nRochester\, NY 14607\n\nSe servirán bocadillos y aperitivos en esta reunión.\n\n*Es necesario registrarse para asistir.*\n\nREGÍSTRESE EN LÍNEA AQUÍ: https://memberlink.cseany.org/Event.axd?e=2246 \n O llameal Centro de Recursos CSEA/VOICE al (877) 483-2732 o envíe un correo electrónico a voice@cseainc.org.\n\nHabrá traducción al Español disponible\n\nAGENDA DE LA REUNIÓN:\n1. Bienvenida/Presentaciones\n2. Actualizaciones de DSS\n3. Actualizaciones de OCFS\n4. Actualizaciones de VOICE\n5. Desarrollo Profesional: Capacitaciones\n6. Membresía y Liderazgo\n7. Otros asuntos\n8. Próxima reunión y cierre\n9. Preguntas y respuestas \nDado que la interpretación al español de esta próxima reunión estará disponible a través de Zoom\, recuerde traer lo siguiente (si es necesario):\n• Auriculares o audífonos con la batería completamente cargada (para un audio claro durante la interpretación\n• Un teléfono celular con la batería completamente cargada (o asegúrese de tener acceso a un dispositivo con la batería cargada y la aplicación Zoom descargada en su dispositivo) Estos artículos son esenciales para garantizar una comunicación fluida y una participación plena durante toda la reunión.
URL:https://voicecsea.org/event/monroe-county-chapter-meeting-2/
END:VEVENT
END:VCALENDAR