BEGIN:VCALENDAR
VERSION:2.0
PRODID:-//Voice - ECPv6.1.3//NONSGML v1.0//EN
CALSCALE:GREGORIAN
METHOD:PUBLISH
X-ORIGINAL-URL:https://voicecsea.org
X-WR-CALDESC:Events for Voice
REFRESH-INTERVAL;VALUE=DURATION:PT1H
X-Robots-Tag:noindex
X-PUBLISHED-TTL:PT1H
BEGIN:VTIMEZONE
TZID:America/New_York
BEGIN:DAYLIGHT
TZOFFSETFROM:-0500
TZOFFSETTO:-0400
TZNAME:EDT
DTSTART:20260308T070000
END:DAYLIGHT
BEGIN:STANDARD
TZOFFSETFROM:-0400
TZOFFSETTO:-0500
TZNAME:EST
DTSTART:20261101T060000
END:STANDARD
END:VTIMEZONE
BEGIN:VEVENT
DTSTART;TZID=America/New_York:20260314T090000
DTEND;TZID=America/New_York:20260314T140000
DTSTAMP:20260420T113100
CREATED:20260209T171025Z
LAST-MODIFIED:20260210T152052Z
UID:7478-1773478800-1773496800@voicecsea.org
SUMMARY:**No Cost CPR/First Aid (Erie\, Niagara) **  Held in English
DESCRIPTION:CSEA/VOICE is covering the cost for an Infant/Child and Adult CPR and First Aid training class with funds negotiated in our latest contract with OCFS and New York State. The class is open to Legally Exempt\, Family Child Care and Group Family Childcare providers\, their staff\, and volunteers requiring certification and/or renewal within 90 days.\n\nDate: Saturday March 14\, 2026\nTime: 9:00 AM to 2:00 PM\nLocation: One Step Above The Rest\n98 Stevens Ave\nBuffalo\, NY 14215 \nEach participant will receive training hours in OCFS topic areas 2 – Nutrition and Health Needs of Infants and Children and 4 – Safety & Security Procedures.\n\nPlease Note: there is a 3 person limit per child care program.\n\n*Reservations Required.* Seats are limited.\n\nPlease click on this link to register: https://www.csealearningcenter.org/help/loginmember.cfm?cca=2 \nIf you have difficulty registering online you may call 1-855-472-6848 for assistance.
URL:https://voicecsea.org/event/no-cost-cpr-first-aid-erie-niagara-held-in-english-13/
CATEGORIES:CPR Training
END:VEVENT
BEGIN:VEVENT
DTSTART;TZID=America/New_York:20260314T090000
DTEND;TZID=America/New_York:20260314T140000
DTSTAMP:20260420T113100
CREATED:20260209T171027Z
LAST-MODIFIED:20260210T152221Z
UID:7479-1773478800-1773496800@voicecsea.org
SUMMARY:**No Cost CPR/First Aid (Clinton\, Essex\, Franklin\, Hamilton) **  Held in English
DESCRIPTION:CSEA/VOICE is covering the cost for an Infant/Child and Adult CPR and First Aid training class with funds negotiated in our latest contract with OCFS and New York State. The class is open to Legally Exempt\, Family Child Care and Group Family Childcare providers\, their staff\, and volunteers requiring certification and/or renewal within 90 days.\n\nDate: Saturday March 14\, 2026\nTime: 9:00 AM to 2:00 PM\nLocation: National Safety Awareness\n60 Couch Street\nPlattsburgh\, NY 12901 \nEach participant will receive training hours in OCFS topic areas 2 – Nutrition and Health Needs of Infants and Children and 4 – Safety & Security Procedures. \nPlease Note: there is a 3 person limit per child care program.\n\n*Reservations Required.* Seats are limited.\n\nPlease click on this link to register: https://www.csealearningcenter.org/help/loginmember.cfm?cca=2 \nIf you have difficulty registering online you may call 1-855-472-6848 for assistance.
URL:https://voicecsea.org/event/no-cost-cpr-first-aid-clinton-essex-franklin-hamilton-held-in-english-14/
CATEGORIES:CPR Training
END:VEVENT
BEGIN:VEVENT
DTSTART;TZID=America/New_York:20260314T090000
DTEND;TZID=America/New_York:20260314T140000
DTSTAMP:20260420T113100
CREATED:20260209T171027Z
LAST-MODIFIED:20260210T152408Z
UID:7481-1773478800-1773496800@voicecsea.org
SUMMARY:**No Cost CPR/First Aid (Onondaga) **  Held in English
DESCRIPTION:CSEA/VOICE is covering the cost for an Infant/Child and Adult CPR and First Aid training class with funds negotiated in our latest contract with OCFS and New York State. The class is open to Legally Exempt\, Family Child Care and Group Family Childcare providers\, their staff\, and volunteers requiring certification and/or renewal within 90 days.\n\nDate: Saturday March 14\, 2026\nTime: 9:00 AM to 2:00 PM\nLocation: Office Building\n404 Oak Street\, Suite 291 (Second Floor)\nSyracuse\, NY 13203 \nEach participant will receive training hours in OCFS topic areas 2 – Nutrition and Health Needs of Infants and Children and 4 – Safety & Security Procedures.\n\nPlease Note: there is a 3 person limit per child care program.\n\n*Reservations Required.* Seats are limited.\n\nPlease click on this link to register: https://www.csealearningcenter.org/help/loginmember.cfm?cca=2 \nIf you have difficulty registering online you may call 1-855-472-6848 for assistance.
URL:https://voicecsea.org/event/no-cost-cpr-first-aid-onondaga-held-in-english/
CATEGORIES:CPR Training
END:VEVENT
BEGIN:VEVENT
DTSTART;TZID=America/New_York:20260314T090000
DTEND;TZID=America/New_York:20260314T140000
DTSTAMP:20260420T113100
CREATED:20260209T171028Z
LAST-MODIFIED:20260210T152613Z
UID:7482-1773478800-1773496800@voicecsea.org
SUMMARY:**Capacitacion gratuita de RCP/Primeros Auxilios!** (Suffolk)  Capacitación en persona solo en español
DESCRIPTION:CSEA/VOICE está cubriendo el costo del entrenamiento RCP y primero auxilios para bebés/niños y adultos con fondos negociado con en nuestro último contrato con OCFS y el estado de Nueva York. La clase está abierta a proveedores legalmente exentos\, de cuidado infantil familiar y de cuidado infantil familiar grupal\, su personal y voluntarios que requieran certificación y/o renovación dentro de los 90 días.\n\nFecha: Saturday March 14\, 2026\nHorario: 9:00 AM to 2:00 PM\nUbicación: CSEA Long Island Regional Offices\n3 Garet Place\nCommack\, NY 11725 \nCada participante recibirá horas de capacitación en las áreas temáticas de OCFS 2: Necesidades de nutrición y salud de bebés y niños y 4: Procedimientos de seguridad y protección.\n\nPor favor anote: un límite de 3 personas por programa de cuidado infantil por entrenamiento.\n\n*Reservaciones requerido*\n\nAsientos limitados.\n\nPor favor darle clic aquí para registrarse en línea: https://www.csealearningcenter.org/help/loginmember.cfm?cca=2 \nSi tienen dificultades para registrarse en línea\, pueden llamar al 1-855-472-6848​ para obtener ayuda.
URL:https://voicecsea.org/event/capacitacion-gratuita-de-rcp-primeros-auxilios-suffolk-capacitacin-en-persona-solo-en-espaol-8/
CATEGORIES:CPR Training
END:VEVENT
BEGIN:VEVENT
DTSTART;TZID=America/New_York:20260314T090000
DTEND;TZID=America/New_York:20260314T150000
DTSTAMP:20260420T113100
CREATED:20260226T155237Z
LAST-MODIFIED:20260226T155602Z
UID:7550-1773478800-1773500400@voicecsea.org
SUMMARY:**No Cost CPR/First Aid (Albany\, Schenectady\, Rensselaer) **  Held in English
DESCRIPTION:CSEA/VOICE is covering the cost for an Infant/Child and Adult CPR and First Aid training class with funds negotiated in our latest contract with OCFS and New York State. The class is open to Legally Exempt\, Family Child Care and Group Family Childcare providers\, their staff\, and volunteers requiring certification and/or renewal within 90 days. \nDate: Saturday March 14\, 2026\nTime: 9:00 AM to 3:00 PM\nLocation: Lutheran Church of the Holy Spirit\n57 Hurlbut Street\nAlbany\, NY 12209 \nEach participant will receive training hours in OCFS topic areas 2 – Nutrition and Health Needs of Infants and Children and 4 – Safety & Security Procedures. \nPlease Note: there is a 3 person limit per child care program. \n*Reservations Required.* Seats are limited. \nPlease click on this link to register: https://www.csealearningcenter.org/help/loginmember.cfm?cca=2 \nIf you have difficulty registering online you may call 1-855-472-6848 for assistance.
URL:https://voicecsea.org/event/no-cost-cpr-first-aid-albany-schenectady-rensselaer-held-in-english/
CATEGORIES:CPR Training
END:VEVENT
BEGIN:VEVENT
DTSTART;TZID=America/New_York:20260314T100000
DTEND;TZID=America/New_York:20260314T150000
DTSTAMP:20260420T113100
CREATED:20260209T171028Z
LAST-MODIFIED:20260210T152744Z
UID:7483-1773482400-1773500400@voicecsea.org
SUMMARY:**Capacitacion gratuita de RCP/Primeros Auxilios!** (Westchester)  Capacitación en persona solo en español
DESCRIPTION:CSEA/VOICE está cubriendo el costo del entrenamiento RCP y primero auxilios para bebés/niños y adultos con fondos negociado con en nuestro último contrato con OCFS y el estado de Nueva York. La clase está abierta a proveedores legalmente exentos\, de cuidado infantil familiar y de cuidado infantil familiar grupal\, su personal y voluntarios que requieran certificación y/o renovación dentro de los 90 días.\n\nFecha: Saturday March 14\, 2026\nHorario: 10:00 AM to 3:00 PM\nUbicación: Little Angelicals Day Care Inc\n738 River Street\nMamaroneck\, NY 10543 \nCada participante recibirá horas de capacitación en las áreas temáticas de OCFS 2: Necesidades de nutrición y salud de bebés y niños y 4: Procedimientos de seguridad y protección.\n\nPor favor anote: un límite de 3 personas por programa de cuidado infantil por entrenamiento.\n\n*Reservaciones requerido*\n\nAsientos limitados.\n\nPor favor darle clic aquí para registrarse en línea: https://www.csealearningcenter.org/help/loginmember.cfm?cca=2 \nSi tienen dificultades para registrarse en línea\, pueden llamar al 1-855-472-6848 para obtener ayuda.
URL:https://voicecsea.org/event/capacitacion-gratuita-de-rcp-primeros-auxilios-westchester-capacitacin-en-persona-solo-en-espaol-2/
CATEGORIES:CPR Training
END:VEVENT
BEGIN:VEVENT
DTSTART;TZID=America/New_York:20260314T110000
DTEND;TZID=America/New_York:20260314T150000
DTSTAMP:20260420T113100
CREATED:20260209T171027Z
LAST-MODIFIED:20260210T153029Z
UID:7480-1773486000-1773500400@voicecsea.org
SUMMARY:**No Cost CPR/First Aid (Warren\, Washington\, Saratoga) **  Held in English
DESCRIPTION:CSEA/VOICE is covering the cost for an Infant/Child and Adult CPR and First Aid training class with funds negotiated in our latest contract with OCFS and New York State. The class is open to Legally Exempt\, Family Child Care and Group Family Childcare providers\, their staff\, and volunteers requiring certification and/or renewal within 90 days.\n\nDate: Saturday March 14\, 2026\nTime: 11:00 AM to 3:00 PM\nLocation: Queensbury Holiday Inn Express\n216 Corinth Road\nQueensbury\, NY 12804 \nEach participant will receive training hours in OCFS topic areas 2 – Nutrition and Health Needs of Infants and Children and 4 – Safety & Security Procedures.\n\nPlease Note: there is a 3 person limit per child care program.\n\n*Reservations Required.* Seats are limited.\n\nPlease click on this link to register: https://www.csealearningcenter.org/help/loginmember.cfm?cca=2 \nIf you have difficulty registering online you may call 1-855-472-6848 for assistance.
URL:https://voicecsea.org/event/no-cost-cpr-first-aid-warren-washington-saratoga-held-in-english-2/
CATEGORIES:CPR Training
END:VEVENT
END:VCALENDAR