BEGIN:VCALENDAR
VERSION:2.0
PRODID:-//Voice - ECPv6.1.3//NONSGML v1.0//EN
CALSCALE:GREGORIAN
METHOD:PUBLISH
X-ORIGINAL-URL:https://voicecsea.org
X-WR-CALDESC:Events for Voice
REFRESH-INTERVAL;VALUE=DURATION:PT1H
X-Robots-Tag:noindex
X-PUBLISHED-TTL:PT1H
BEGIN:VTIMEZONE
TZID:America/New_York
BEGIN:DAYLIGHT
TZOFFSETFROM:-0500
TZOFFSETTO:-0400
TZNAME:EDT
DTSTART:20260308T070000
END:DAYLIGHT
BEGIN:STANDARD
TZOFFSETFROM:-0400
TZOFFSETTO:-0500
TZNAME:EST
DTSTART:20261101T060000
END:STANDARD
END:VTIMEZONE
BEGIN:VEVENT
DTSTART;TZID=America/New_York:20260318T183000
DTEND;TZID=America/New_York:20260318T200000
DTSTAMP:20260420T113058
CREATED:20260226T190559Z
LAST-MODIFIED:20260303T201920Z
UID:7560-1773858600-1773864000@voicecsea.org
SUMMARY:**No Cost CPR/First Aid (Orange\, Sullivan) **  Held in English
DESCRIPTION:CSEA/VOICE is covering the cost for an Infant/Child and Adult CPR and First Aid training class with funds negotiated in our latest contract with OCFS and New York State. The class is open to Legally Exempt\, Family Child Care and Group Family Childcare providers\, their staff\, and volunteers requiring certification and/or renewal within 90 days.\n\nDate: Saturday March 28\, 2026\nTime: 9:00 AM to 2:00 PM\nLocation: National Safety Awareness\n46 D’Alfonso Road\nNewburgh\, NY 12550 \nEach participant will receive training hours in OCFS topic areas 2 – Nutrition and Health Needs of Infants and Children and 4 – Safety & Security Procedures.\n\nPlease Note: there is a 3 person limit per child care program.\n\n*Reservations Required.* \nSeats are limited.\n\nPlease click on this link to register: https://www.csealearningcenter.org/help/loginmember.cfm?cca=2 \nIf you have difficulty registering online you may call 1-855-472-6848 for assistance.
URL:https://voicecsea.org/event/no-cost-cpr-first-aid-orange-sullivan-held-in-english-52/
CATEGORIES:CPR Training
END:VEVENT
BEGIN:VEVENT
DTSTART;TZID=America/New_York:20260318T183000
DTEND;TZID=America/New_York:20260318T200000
DTSTAMP:20260420T113058
CREATED:20260303T203231Z
LAST-MODIFIED:20260303T203231Z
UID:7623-1773858600-1773864000@voicecsea.org
SUMMARY:Orange and Sullivan Chapter Meeting
DESCRIPTION:Orange and Sullivan Chapter Meeting\nWednesday\, March 18\, 2026  \nCSEA/VOICE invites you to join us for a very important Orange and Sullivan County Informational Chapter Meeting. We will discuss upcoming training opportunities\, DSS updates\, OCFS updates\, membership and other pertinent information. Plan now to attend. \n\nDate: Wednesday\, March 18\, 2026\nTime: 6:30 p.m – 8:00 p.m\nLocation: Child Care Council of Orange County\n40 Matthews St.\nGoshen\, NY 10924 \nLight refreshments will be served.\n\n*Space is limited*\n\n*Registration is Required to attend*\n\nMembers register here: https://memberlink.cseany.org/Event.axd?e=2237\n\nNon-members please register by calling the CSEA/VOICE Resource Center at 877-483-2732 or via email at voice@cseainc.org \nIt is with membership that we can accomplish many great things for you\, your program\, and your business. Please visit our website https://voicecsea.org and sign up today!\n\nMEETING AGENDA:\n1. Welcome/ Introductions\n2. DSS Updates\n3. OCFS Updates\n4. VOICE Updates\n5. Professional Development\n6. Membership/Leadership\n7. Other Business\n8. Next Meeting and Closing \n\nReunión del Capítulo de Orange y Sullivan\nMiércoles\, Marzo 18\, 2026 \nCSEA/VOICE le invita a unirse a nuestra importante reunión informativa de los capítulos del condado de Orange y Sullivan. Hablaremos sobre las próximas oportunidades de capacitación\, novedades de DSS\, novedades de OCFS\, membresía y otra información relevante. Reserve su asistencia ahora.\n\nFecha: Miércoles\, Marzo 18\, 2026\nHora: 6:30 p.m. – 8:00 p.m.\nUbicación: Child Care Council of Orange County\n40 Matthews St.\nGoshen\, NY 10924 \nSe servirán bocadillos ligeros.\n\n*Cupo limitado*\n\n*Es necesario registrarse para asistir*\n\nMiembros regístrense aquí: https://memberlink.cseany.org/Event.axd?e=2237\n\nSi no son miembros\, inscríbanse llamando al Centro de Recursos de CSEA/VOICE al 877-483-2732 o por correo electrónico a voice@cseainc.org \nCon la membresía podemos lograr grandes cosas para usted\, su programa y su negocio. ¡Visite nuestro sitio web https://voicecsea.org e inscríbase hoy mismo!\n\nAGENDA DE LA REUNIÓN:\n1. Bienvenida/Presentaciones\n2. Actualizaciones de DSS\n3. Actualizaciones de OCFS\n4. Actualizaciones de VOICE\n5. Desarrollo profesional\n6. Membresía/Liderazgo\n7. Otros asuntos\n8. Próxima reunión y clausura
URL:https://voicecsea.org/event/orange-and-sullivan-chapter-meeting-2/
CATEGORIES:Chapter Meetings
END:VEVENT
END:VCALENDAR