BEGIN:VCALENDAR
VERSION:2.0
PRODID:-//Voice - ECPv6.1.3//NONSGML v1.0//EN
CALSCALE:GREGORIAN
METHOD:PUBLISH
X-WR-CALNAME:Voice
X-ORIGINAL-URL:https://voicecsea.org
X-WR-CALDESC:Events for Voice
REFRESH-INTERVAL;VALUE=DURATION:PT1H
X-Robots-Tag:noindex
X-PUBLISHED-TTL:PT1H
BEGIN:VTIMEZONE
TZID:America/New_York
BEGIN:DAYLIGHT
TZOFFSETFROM:-0500
TZOFFSETTO:-0400
TZNAME:EDT
DTSTART:20260308T070000
END:DAYLIGHT
BEGIN:STANDARD
TZOFFSETFROM:-0400
TZOFFSETTO:-0500
TZNAME:EST
DTSTART:20261101T060000
END:STANDARD
END:VTIMEZONE
BEGIN:VEVENT
DTSTART;TZID=America/New_York:20260321T090000
DTEND;TZID=America/New_York:20260321T140000
DTSTAMP:20260420T113119
CREATED:20260226T190558Z
LAST-MODIFIED:20260226T190558Z
UID:7559-1774083600-1774101600@voicecsea.org
SUMMARY:**Capacitacion gratuita de RCP/Primeros Auxilios!** (Onondaga)  Capacitación en persona solo en español
DESCRIPTION:CSEA/VOICE está cubriendo el costo del entrenamiento RCP y primero auxilios para bebés/niños y adultos con fondos negociado con en nuestro último contrato con OCFS y el estado de Nueva York.  La clase está abierta a proveedores legalmente exentos\, de cuidado infantil familiar y de cuidado infantil familiar grupal\, su personal y voluntarios que requieran certificación y/o renovación dentro de los 90 días. \nFecha: Saturday March 21\, 2026 Horario: 9:00 AM to 2:00 PM Ubicación:     Office Building(Syracuse)                     404 Oak Street\, Suite 291 (Second Floor)                     Syracuse\, NY 13203                  \nCada participante recibirá horas de capacitación en las áreas temáticas de OCFS 2: Necesidades de nutrición y salud de bebés y niños y 4: Procedimientos de seguridad y protección. \nPor favor anote: un límite de 3 personas por programa de cuidado infantil por entrenamiento. \n*Reservaciones requerido* \nAsientos limitados. \nPor favor darle clic aquí para registrarse en línea:https://www.csealearningcenter.org/help/loginmember.cfm?cca=2Si tienen dificultades para registrarse en línea\, pueden llamar al 1-855-472-6848 para obtener ayuda.
URL:https://voicecsea.org/event/capacitacion-gratuita-de-rcp-primeros-auxilios-onondaga-capacitacin-en-persona-solo-en-espaol-2/
CATEGORIES:CPR Training
END:VEVENT
BEGIN:VEVENT
DTSTART;TZID=America/New_York:20260321T090000
DTEND;TZID=America/New_York:20260321T150000
DTSTAMP:20260420T113119
CREATED:20260226T190558Z
LAST-MODIFIED:20260226T193407Z
UID:7558-1774083600-1774105200@voicecsea.org
SUMMARY:**Capacitacion gratuita de RCP/Primeros Auxilios!** (Nassau)  Capacitación en persona solo en español
DESCRIPTION:CSEA/VOICE está cubriendo el costo del entrenamiento RCP y primero auxilios para bebés/niños y adultos con fondos negociado con en nuestro último contrato con OCFS y el estado de Nueva York. La clase está abierta a proveedores legalmente exentos\, de cuidado infantil familiar y de cuidado infantil familiar grupal\, su personal y voluntarios que requieran certificación y/o renovación dentro de los 90 días.\n\nFecha: Saturday March 21\, 2026\nHorario: 9:00 AM to 3:00 PM\nUbicación: Learn & Play Learning Center\n2163 Grand Avenue\nBaldwin\, NY 11510 \nCada participante recibirá horas de capacitación en las áreas temáticas de OCFS 2: Necesidades de nutrición y salud de bebés y niños y 4: Procedimientos de seguridad y protección.\n\nPor favor anote: un límite de 3 personas por programa de cuidado infantil por entrenamiento.\n\n*Reservaciones requerido*\n\nAsientos limitados.\n\nPor favor darle clic aquí para registrarse en línea: https://www.csealearningcenter.org/help/loginmember.cfm?cca=2 \nSi tienen dificultades para registrarse en línea\, pueden llamar al 1-855-472-6848 para obtener ayuda.
URL:https://voicecsea.org/event/capacitacion-gratuita-de-rcp-primeros-auxilios-nassau-capacitacin-en-persona-solo-en-espaol-14/
CATEGORIES:CPR Training
END:VEVENT
BEGIN:VEVENT
DTSTART;TZID=America/New_York:20260321T100000
DTEND;TZID=America/New_York:20260321T150000
DTSTAMP:20260420T113119
CREATED:20260226T190558Z
LAST-MODIFIED:20260226T193836Z
UID:7557-1774087200-1774105200@voicecsea.org
SUMMARY:**No Cost CPR/First Aid (Westchester) **  Held in English
DESCRIPTION:CSEA/VOICE is covering the cost for an Infant/Child and Adult CPR and First Aid training class with funds negotiated in our latest contract with OCFS and New York State. The class is open to Legally Exempt\, Family Child Care and Group Family Childcare providers\, their staff\, and volunteers requiring certification and/or renewal within 90 days.\n\nDate: Saturday March 21\, 2026\nTime: 10:00 AM to 3:00 PM\nLocation: Grinton I. Will Branch Library\n1500 Central Park\nYonkers\, NY 10710 \nEach participant will receive training hours in OCFS topic areas 2 – Nutrition and Health Needs of Infants and Children and 4 – Safety & Security Procedures.\n\nPlease Note: there is a 3 person limit per child care program.\n\n*Reservations Required.* Seats are limited.\n\nPlease click on this link to register: https://www.csealearningcenter.org/help/loginmember.cfm?cca=2 \nIf you have difficulty registering online you may call 1-855-472-6848 for assistance
URL:https://voicecsea.org/event/no-cost-cpr-first-aid-westchester-held-in-english-2/
CATEGORIES:CPR Training
END:VEVENT
END:VCALENDAR