BEGIN:VCALENDAR
VERSION:2.0
PRODID:-//Voice - ECPv6.1.3//NONSGML v1.0//EN
CALSCALE:GREGORIAN
METHOD:PUBLISH
X-ORIGINAL-URL:https://voicecsea.org
X-WR-CALDESC:Events for Voice
REFRESH-INTERVAL;VALUE=DURATION:PT1H
X-Robots-Tag:noindex
X-PUBLISHED-TTL:PT1H
BEGIN:VTIMEZONE
TZID:America/New_York
BEGIN:DAYLIGHT
TZOFFSETFROM:-0500
TZOFFSETTO:-0400
TZNAME:EDT
DTSTART:20260308T070000
END:DAYLIGHT
BEGIN:STANDARD
TZOFFSETFROM:-0400
TZOFFSETTO:-0500
TZNAME:EST
DTSTART:20261101T060000
END:STANDARD
END:VTIMEZONE
BEGIN:VEVENT
DTSTART;TZID=America/New_York:20260325T180000
DTEND;TZID=America/New_York:20260325T190000
DTSTAMP:20260420T113058
CREATED:20260312T165140Z
LAST-MODIFIED:20260312T165140Z
UID:7645-1774461600-1774465200@voicecsea.org
SUMMARY:Orleans\, Genesee\, Wyoming County Chapter Zoom Meeting
DESCRIPTION:Orleans\, Genesee\, Wyoming County Chapter Zoom Meeting\nWednesday\, March 25\, 2026 \n \nCSEA/VOICE invites you to join us for a very important Orleans\, Genesee\, WyomingInformational Chapter Meeting. Plan now to attend this meeting. We will discuss upcoming training\, DSS updates\, OCFS updates\, membership and other pertinent information.\n\nDate: Wednesday\, March 25\, 2026\nTime: 6:00 p.m. – 7:00 p.m.\nLocation: Via Zoom https://zoom.us/j/91385980331\nMeeting ID: 91385980331\n\n*Please register to attend.*\n\nMembers register via Member link at: https://memberlink.cseany.org/Event.axd?e=2280\n\nNon-Members register by calling the CSEA/VOICE Resource Center at (877) 483-2732 or via email at voice@cseainc.org. \nThis meeting is open to members and non-members. It is with membership that we can accomplish many great things for your business. Please visit our website https://voicecsea.org and become a member! \nMEETING AGENDA:\n1. Welcome/ Introductions\n2. DSS Updates\n3. OCFS Updates\n4. VOICE Updates\n5. Professional Development\n6. Membership/Leadership\n7. Other Business\n8. Next Meeting and Closing
URL:https://voicecsea.org/event/orleans-genesee-wyoming-county-chapter-zoom-meeting/
CATEGORIES:Chapter Meetings
END:VEVENT
END:VCALENDAR