BEGIN:VCALENDAR
VERSION:2.0
PRODID:-//Voice - ECPv6.1.3//NONSGML v1.0//EN
CALSCALE:GREGORIAN
METHOD:PUBLISH
X-WR-CALNAME:Voice
X-ORIGINAL-URL:https://voicecsea.org
X-WR-CALDESC:Events for Voice
REFRESH-INTERVAL;VALUE=DURATION:PT1H
X-Robots-Tag:noindex
X-PUBLISHED-TTL:PT1H
BEGIN:VTIMEZONE
TZID:America/New_York
BEGIN:DAYLIGHT
TZOFFSETFROM:-0500
TZOFFSETTO:-0400
TZNAME:EDT
DTSTART:20260308T070000
END:DAYLIGHT
BEGIN:STANDARD
TZOFFSETFROM:-0400
TZOFFSETTO:-0500
TZNAME:EST
DTSTART:20261101T060000
END:STANDARD
END:VTIMEZONE
BEGIN:VEVENT
DTSTART;TZID=America/New_York:20260327T180000
DTEND;TZID=America/New_York:20260327T200000
DTSTAMP:20260420T113117
CREATED:20260310T173236Z
LAST-MODIFIED:20260310T173312Z
UID:7640-1774634400-1774641600@voicecsea.org
SUMMARY:Ontario\, Wayne\, and Yates Chapter Meeting
DESCRIPTION:Ontario\, Wayne\, and Yates Chapter Meeting\nFriday\, March 27\, 2026 \nCSEA/VOICE invites you to come and meet your new Chapter Representative Connie Sands for a very important Ontario\, Wayne\, and Yates Chapter Meeting at the Geneva American Legion for a fish fry with chicken tenders as an option. We will be discussing in detail updates that affect your business. Plan now to attend this meeting. We will also update members on training\, membership\, and other pertinent information. \nMUST BE A MEMBER TO ATTEND \nDate:  Friday\, March 27\, 2026\nTime: 6:00 p.m. – 8:00 p.m.\nLocation: Geneva American Legion\n1011 NY-5 & 20\nGeneva\, NY 14456\n\n*Registration is required to attend.*\n\nREGISTER ONLINE HERE: https://memberlink.cseany.org/Event.axd?e=2275 \nOr by calling the CSEA/VOICE Resource Center at (877) 483-2732 or via email at voice@cseainc.org.\n\nMEETING AGENDA:\n1. Welcome/ Introductions\n2. DSS Updates\n3. OCFS Updates\n4.VOICE Updates\n5. Professional Development: Trainings\n6. Membership and Leadership\n7. Other Business\n8. Next meeting & Closing\n9. Q & A
URL:https://voicecsea.org/event/ontario-wayne-and-yates-chapter-meeting/
CATEGORIES:Chapter Meetings
END:VEVENT
END:VCALENDAR