BEGIN:VCALENDAR
VERSION:2.0
PRODID:-//Voice - ECPv6.1.3//NONSGML v1.0//EN
CALSCALE:GREGORIAN
METHOD:PUBLISH
X-ORIGINAL-URL:https://voicecsea.org
X-WR-CALDESC:Events for Voice
REFRESH-INTERVAL;VALUE=DURATION:PT1H
X-Robots-Tag:noindex
X-PUBLISHED-TTL:PT1H
BEGIN:VTIMEZONE
TZID:America/New_York
BEGIN:DAYLIGHT
TZOFFSETFROM:-0500
TZOFFSETTO:-0400
TZNAME:EDT
DTSTART:20260308T070000
END:DAYLIGHT
BEGIN:STANDARD
TZOFFSETFROM:-0400
TZOFFSETTO:-0500
TZNAME:EST
DTSTART:20261101T060000
END:STANDARD
END:VTIMEZONE
BEGIN:VEVENT
DTSTART;TZID=America/New_York:20260430T180000
DTEND;TZID=America/New_York:20260430T200000
DTSTAMP:20260420T083317
CREATED:20260413T171213Z
LAST-MODIFIED:20260413T171213Z
UID:7987-1777572000-1777579200@voicecsea.org
SUMMARY:Steuben and Schuyler County Chapter Meeting
DESCRIPTION:Steuben and Schuyler County Chapter Meeting\nThursday\, April 30\, 2026\nCSEA/VOICE invites you to join us for a very important chapters Informational Chapter Meeting. Plan now to attend this meeting. We will discuss upcoming training\, DSS updates\, OCFS updates\, membership and other pertinent information.\n\nMust be a member to attend\n\nDate: Thursday\, April 30\, 2026\nTime: 6:00 p.m.- 8:00 p.m.\nLocation: Gabe’s Grill\n3069 State Rt. 352\nFlats\, NY 14814\n\nRegister Online Here: https://memberlink.cseany.org/Event.axd?e=2311 \nOr by calling the CSEA/VOICE Resource Center at 877-483-2732 or via email at voice@cseainc.org. \nIf you need Spanish translation\, it may be available\, please call the CSEA/VOICE Bilingual Resource Center at 877-483-2732.\n\nMEETING AGENDA:\n1. Welcome/ Introductions\n2. DSS Updates\n3. OCFS Updates\n4. VOICE Updates\n5. Professional Development\n6. Membership/Leadership\n7. Other Business\n8. Next Meeting and Closing \n\n\nReunión del Capítulo de los Condados de Steuben y Schuyler\nJueves\, Abril 30\, 2026 \nEstimado {{ FirstName | default: ‘Educador’ }}\, \nCSEA/VOICE le invita a acompañarnos en una reunión informativa de capítulos de gran importancia. Planifique desde ahora su asistencia a esta reunión. Abordaremos las próximas capacitaciones\, las actualizaciones del DSS y del OCFS\, temas relacionados con la membresía y otra información pertinente. \nEs necesario ser miembro para asistir.\n\nFecha: Jueves\, Abril 30\, 2026\nHorario: 6:00 p.m.- 8:00 p.m.\nUbicación: Gabe’s Grill\n3069 State Rt. 352\nFlats\, NY 14814\n\nRegístrese en línea aquí:\nhttps://memberlink.cseany.org/Event.axd?e=2311 \nO llamando al Centro de Recursos de CSEA/VOICE al 877-483-2732 o por correo electrónico a voice@cseainc.org. \nSi necesita traducción al español\, es posible que esté disponible; por favor\, llame al Centro de Recursos Bilingües de CSEA/VOICE al 877-483-2732.\n\nAGENDA DE LA REUNIÓN:\n1. Bienvenida / Presentaciones\n2. Actualizaciones de DSS\n3. Actualizaciones de OCFS\n4. Actualizaciones de VOICE\n5. Desarrollo profesional\n6. Membresía / Liderazgo\n7. Otros asuntos\n8. Próxima reunión y clausura
URL:https://voicecsea.org/event/steuben-and-schuyler-county-chapter-meeting/
CATEGORIES:Chapter Meetings
END:VEVENT
BEGIN:VEVENT
DTSTART;TZID=America/New_York:20260430T183000
DTEND;TZID=America/New_York:20260430T200000
DTSTAMP:20260420T083317
CREATED:20260408T144122Z
LAST-MODIFIED:20260408T144122Z
UID:7839-1777573800-1777579200@voicecsea.org
SUMMARY:Dutchess & Putnam Chapter Meeting
DESCRIPTION:Dutchess & Putnam Chapter Meeting \nThursday\, April 30\, 2026 \n  \nCSEA/VOICE invites you to come and meet your new Chapter Representative Nadia Charles for a very important Dutchess and Putnam Chapter Meeting. We will discuss upcoming training opportunities\, DSS updates\, OCFS updates\, membership and other pertinent information. Plan now to attend.\n\nDate: Thursday\, April 30\, 2026\nTime: 6:30 p.m. – 8:00 p.m.\nLocation: CSEA Local 814 Office\n21 Davis Street\nArlington\, N.Y. 12603 \nLight refreshments will be served \n*Please register to attend*\n\nMembers register via member link at: https://memberlink.cseany.org/Event.axd?e=2308\n\nNon-Members register by calling the CSEA/VOICE Resource Center at 877-483-2732 or via email at voice@cseainc.org. \nThis meeting is open to members and non-members. It is with membership that we can accomplish many great things for your business. Please visit our website http://voicecsea.org and sign up today to become a member!\n\nIf you need Spanish translation\, it may be available\, please call the CSEA/VOICE Bilingual Resource Center at 877-483-2732.\n\nMEETING AGENDA:\n1. Welcome/ Introductions\n2. DSS Updates\n3. OCFS Updates\n4. VOICE Updates\n5. Professional Development\n6. Membership/Leadership\n7. Other Business\n8. Next Meeting and Closing \n\nReunión del Capítulo de Dutchess y Putnam\nJueves\, Abril 30\, 2026\n \nCSEA/VOICE le invita a conocer a su nueva Representante del Capítulo\, Nadia Charles\, en una reunión muy importante de los Capítulos de Dutchess y Putnam. Discutiremos las próximas oportunidades de capacitación\, las novedades de DSS y de OCFS\, membresía y otra información pertinente. ¡Planee asistir ahora! \nFecha: Jueves\, Abril 30\, 2026\nHora: 6:30 p.m. – 8:00 p.m.\nUbicación: CSEA Local 814 Office\n21 Davis Street\nArlington\, N.Y. 12603 \nSe servirán bocadillos ligeros.\n\n*Por favor\, regístrese para asistir.*\n\nMiembros deben registrarse a través\n del enlace para miembros en: https://memberlink.cseany.org/Event.axd?e=2308\n\nNo miembros deben registrarse llamando\n al Centro de Recursos de CSEA/VOICE al 877-483-2732 o por correo electrónico a voice@cseainc.org. \nEsta reunión está abierta tanto a miembros como a no miembros. Es a través de la membresía que podemos lograr grandes cosas para su negocio. ¡Por favor\, visite nuestro sitio web http://voicecsea.org y regístrese hoy mismo para hacerse miembro!\n\nSi necesita traducción al español\, es posible que esté disponible; por favor\, llame al Centro de Recursos Bilingües de CSEA/VOICE al 877-483-2732.\n\nAGENDA DE LA REUNIÓN:\n1. Bienvenida / Presentaciones\n2. Novedades de DSS\n3. Novedades de OCFS\n4. Novedades de VOICE\n5. Desarrollo profesional\n6. Membresía / Liderazgo\n7. Otros asuntos\n8. Próxima reunión y cierre
URL:https://voicecsea.org/event/dutchess-putnam-chapter-meeting/
CATEGORIES:Chapter Meetings
END:VEVENT
END:VCALENDAR