BEGIN:VCALENDAR
VERSION:2.0
PRODID:-//Voice - ECPv6.1.3//NONSGML v1.0//EN
CALSCALE:GREGORIAN
METHOD:PUBLISH
X-ORIGINAL-URL:https://voicecsea.org
X-WR-CALDESC:Events for Voice
REFRESH-INTERVAL;VALUE=DURATION:PT1H
X-Robots-Tag:noindex
X-PUBLISHED-TTL:PT1H
BEGIN:VTIMEZONE
TZID:America/New_York
BEGIN:DAYLIGHT
TZOFFSETFROM:-0500
TZOFFSETTO:-0400
TZNAME:EDT
DTSTART:20260308T070000
END:DAYLIGHT
BEGIN:STANDARD
TZOFFSETFROM:-0400
TZOFFSETTO:-0500
TZNAME:EST
DTSTART:20261101T060000
END:STANDARD
END:VTIMEZONE
BEGIN:VEVENT
DTSTART;TZID=America/New_York:20260512T170000
DTEND;TZID=America/New_York:20260512T210000
DTSTAMP:20260420T095545
CREATED:20260414T142939Z
LAST-MODIFIED:20260414T143019Z
UID:7869-1778605200-1778619600@voicecsea.org
SUMMARY:**No Cost CPR/First Aid (Chautauqua\, Cattaraugus) **  Held in English
DESCRIPTION:CSEA/VOICE is covering the cost for an Infant/Child and Adult CPR and First Aid training with funds negotiated in our latest contract with OCFS and New York State. The training is open to Legally Exempt\, Family Child Care and Group Family Childcare providers and their assistants requiring certification and/or renewal within 90 days.\n\nDate: Tuesday May 12\, 2026\nTime: 5:00 p.m. to 9:00 p.m.\nLocation: Chautauqua Safety Village\n2695 Route 394\nAshville\, NY 14710\n\nPlease Note: there is a 3 person limit per child care program\n\n*Before registering your assistant\, assistant approval verification will be required.*\n\n*Reservations Required.*\n\nSeats are limited.\n\nPlease click on this link to register: https://www.csealearningcenter.org/help/loginmember.cfm?cca=2 \nIf you have difficulty registering\, please contact the Work Institute at 855-472-6848 or email at professional.development@cseainc.org. \nAt CSEA/VOICE we are always advocating for providers to have sustainable businesses. It is with your membership that makes us powerful. If you are not a member\, we encourage you to join to make us even more powerful. You can sign up on-line at https://voicecsea.org If you would like further information\, you can call our toll free Resource Center at 877-483-2732 or email voice@cseainc.org.
URL:https://voicecsea.org/event/no-cost-cpr-first-aid-chautauqua-cattaraugus-held-in-english-7/
CATEGORIES:CPR Training
END:VEVENT
BEGIN:VEVENT
DTSTART;TZID=America/New_York:20260512T183000
DTEND;TZID=America/New_York:20260512T203000
DTSTAMP:20260420T095545
CREATED:20260416T141843Z
LAST-MODIFIED:20260416T141933Z
UID:8011-1778610600-1778617800@voicecsea.org
SUMMARY:Westchester County Chapter 4 Meeting
DESCRIPTION:CSEA/VOICE Westchester County Chapter 4 Meeting\nTuesday\, May 12\, 2026\n \nDesplácese hacia abajo para la traducción al español\nLa interpretación al español se llevará a cabo a través de Zoom \nCSEA/VOICE invites you to join us for a very important Informational Chapter Meeting. We will discuss upcoming training\, DSS updates\, OCFS updates\, membership and other pertinent information. \nMembers who attend the meeting will be entered for a raffle prize. We will also play games for additional chances to win.\n\nLight refreshments will be served.\n\nDate: Tuesday\, May 12\, 2026\nTime: 6:30 p.m. – 8:30 p.m.\nLocation: CSEA Local 860 Building\n585 W Hartsdale Ave\nWhite Plains\, NY 10607\n\n*Space is limited. Please register to attend.*\n\nMembers register via Member link at: https://memberlink.cseany.org/Event.axd?e=2314 \nUnsure if you are a member or if you need to register by phone\, please call CSEA/VOICE Resource Center at (877) 483-2732 or via email at voice@cseainc.org. \nThis meeting is open to members and non-members. It is with membership that we can accomplish many great things for your business. Please visit our website https://voicecsea.org and become a member!\n\nInterpretation to the Spanish language will be held via Zoom\, please remember to bring the following:\n \n\nHeadphones or headsets (for clear audio during interpretation).\nA fully charged cell phone (or ensure access to a charged device with Zoom application downloaded on your device).\n\nThese items are essential to ensure smooth communication and full participation throughout the meeting. \nMEETING AGENDA:\n1. Welcome/ Introductions\n2. DSS Updates\n3. OCFS Updates\n4. VOICE Updates/ Professional Development\n5. Membership/Leadership\n7. Other Business\n8. Next Meeting and Closing \n\n  \nReunión del Capítulo 4 de CSEA/VOICE del Condado de Westchester\nMartes\, Mayo 12\, 2026 \nCSEA/VOICE le invita a acompañarnos en una reunión del capítulo informativa muy importante. Abordaremos las próximas capacitaciones\, las actualizaciones de DSS y de OCFS\, membresía y otra información pertinente. \nLos miembros que asistan a la reunión participarán en el sorteo de un premio. También jugaremos a juegos para tener oportunidades adicionales de ganar.\n\nSe servirán refrigerios ligeros.\n\nFecha: Martes\, Mayo 12\, 2026\nHora: 6:30 p.m. – 8:30 p.m.\nUbicación: CSEA Local 860 Edificio\n585 W Hartsdale Ave\nWhite Plains\, NY 10607 \n*El espacio es limitado. Por favor\, regístrese para asistir*\n\nMiembros regístrense a través\ndel enlace para miembros en: https://memberlink.cseany.org/Event.axd?e=2314 \nSi no está seguro si es miembro o si necesita registrarse por teléfono\, por favor llame al Centro de Recursos de CSEA/VOICE al (877) 483-2732 o envíe un correo electrónico a voice@cseainc.org.\n\nEsta reunión está abierta tanto a miembros como a no miembros. Es a través de la membresía que podemos lograr grandes cosas para su negocio. ¡Por favor\, visite nuestro sitio web https://voicecsea.org y hágase miembro!\n\nLa interpretación al español se llevará a cabo a través de Zoom; por favor\, recuerde traer lo siguiente: \n\nAuriculares o auriculares (para garantizar un audio claro durante la interpretación).\nUn teléfono móvil con la batería completamente cargada (o asegúrese de tener acceso a un dispositivo cargado que tenga instalada la aplicación de Zoom).\n\nEstos elementos son esenciales para asegurar una comunicación fluida y una participación plena durante toda la reunión.\n\nAGENDA DE LA REUNION\n1. Bienvenida / Presentaciones\n2. Actualizaciones de DSS\n3. Actualizaciones de OCFS\n4. Actualizaciones de VOICE / Desarrollo profesional\n5. Membresía / Liderazgo\n7. Otros asuntos\n8. Próxima reunión y cierre
URL:https://voicecsea.org/event/westchester-county-chapter-4-meeting/
CATEGORIES:Chapter Meetings
END:VEVENT
END:VCALENDAR