BEGIN:VCALENDAR
VERSION:2.0
PRODID:-//Voice - ECPv6.1.3//NONSGML v1.0//EN
CALSCALE:GREGORIAN
METHOD:PUBLISH
X-WR-CALNAME:Voice
X-ORIGINAL-URL:https://voicecsea.org
X-WR-CALDESC:Events for Voice
REFRESH-INTERVAL;VALUE=DURATION:PT1H
X-Robots-Tag:noindex
X-PUBLISHED-TTL:PT1H
BEGIN:VTIMEZONE
TZID:America/New_York
BEGIN:DAYLIGHT
TZOFFSETFROM:-0500
TZOFFSETTO:-0400
TZNAME:EDT
DTSTART:20240310T070000
END:DAYLIGHT
BEGIN:STANDARD
TZOFFSETFROM:-0400
TZOFFSETTO:-0500
TZNAME:EST
DTSTART:20241103T060000
END:STANDARD
END:VTIMEZONE
BEGIN:VEVENT
DTSTART;TZID=America/New_York:20240406T083000
DTEND;TZID=America/New_York:20240406T133000
DTSTAMP:20260425T083820
CREATED:20240312T140505Z
LAST-MODIFIED:20240312T140904Z
UID:5194-1712392200-1712410200@voicecsea.org
SUMMARY:No Cost CPR/First Aid (Wellsville)   Held in English
DESCRIPTION:CSEA/VOICE is covering the cost for an Infant/Child and Adult CPR and First Aid training class with funds negotiated in our latest contract with OCFS and New York State. The class is open to Legally Exempt\, Family Child Care and Group Family Childcare providers\, their staff\, and volunteers requiring certification and/or renewal within 90 days. \nDate(s): Saturday April 6\, 2024 Time: 8:30 AM to 1:30 PM Location: Microtel Inn & Suites (Allegany County)                 30 W Dyke Street                 Wellsville\, NY 14895                  \nEach participant will receive training hours in OCFS topic areas 2 – Nutrition and Health Needs of Infants and Children and 4 – Safety & Security Procedures. \nPlease Note: there is a 3 person limit per child care program.*Reservations Required.*  Seats are limited. \nPlease click on this link to register:https://www.csealearningcenter.org/help/loginmember.cfm?cca=2If you have difficulty registering online you may call 1-855-472-6848 for assistance.
URL:https://voicecsea.org/event/no-cost-cpr-first-aid-wellsville-held-in-english/
CATEGORIES:CPR Training
END:VEVENT
BEGIN:VEVENT
DTSTART;TZID=America/New_York:20240406T090000
DTEND;TZID=America/New_York:20240406T140000
DTSTAMP:20260425T083820
CREATED:20240312T140450Z
LAST-MODIFIED:20240312T140844Z
UID:5191-1712394000-1712412000@voicecsea.org
SUMMARY:No Cost CPR/First Aid (Newburgh)   Held in English
DESCRIPTION:CSEA/VOICE is covering the cost for an Infant/Child and Adult CPR and First Aid training class with funds negotiated in our latest contract with OCFS and New York State. The class is open to Legally Exempt\, Family Child Care and Group Family Childcare providers\, their staff\, and volunteers requiring certification and/or renewal within 90 days. \nDate(s): Saturday April 6\, 2024 Time: 9:00 AM to 2:00 PM Location: National Safety Awareness (Newburgh)                 46 D’Alfonso Road                 Newburgh\, NY 12550                  \nEach participant will receive training hours in OCFS topic areas 2 – Nutrition and Health Needs of Infants and Children and 4 – Safety & Security Procedures. \nPlease Note: there is a 3 person limit per child care program.*Reservations Required.*  Seats are limited. \nPlease click on this link to register:https://www.csealearningcenter.org/help/loginmember.cfm?cca=2If you have difficulty registering online you may call 1-855-472-6848 for assistance.
URL:https://voicecsea.org/event/no-cost-cpr-first-aid-newburgh-held-in-english-2/
CATEGORIES:CPR Training
END:VEVENT
BEGIN:VEVENT
DTSTART;TZID=America/New_York:20240406T090000
DTEND;TZID=America/New_York:20240406T150000
DTSTAMP:20260425T083820
CREATED:20240312T140450Z
LAST-MODIFIED:20240312T140835Z
UID:5190-1712394000-1712415600@voicecsea.org
SUMMARY:No Cost CPR/First Aid (Little Falls)  Held in English
DESCRIPTION:CSEA/VOICE is covering the cost for an Infant/Child and Adult CPR and First Aid training class with funds negotiated in our latest contract with OCFS and New York State. The class is open to Legally Exempt\, Family Child Care and Group Family Childcare providers\, their staff\, and volunteers requiring certification and/or renewal within 90 days. \nDate(s): Saturday April 6\, 2024 Time: 9:00 AM to 3:00 PM Location: Holy Trinity Lutheran Church (Little Falls)                 512 E. Gansevoort Street                 Little Falls\, NY 13365                  \nEach participant will receive training hours in OCFS topic areas 2 – Nutrition and Health Needs of Infants and Children and 4 – Safety & Security Procedures. \nPlease Note: there is a 3 person limit per child care program.*Reservations Required.*  Seats are limited. \nPlease click on this link to register:https://www.csealearningcenter.org/help/loginmember.cfm?cca=2If you have difficulty registering online you may call 1-855-472-6848 for assistance.
URL:https://voicecsea.org/event/no-cost-cpr-first-aid-little-falls-held-in-english/
CATEGORIES:CPR Training
END:VEVENT
BEGIN:VEVENT
DTSTART;TZID=America/New_York:20240406T093000
DTEND;TZID=America/New_York:20240406T153000
DTSTAMP:20260425T083820
CREATED:20240312T140451Z
LAST-MODIFIED:20240312T140805Z
UID:5193-1712395800-1712417400@voicecsea.org
SUMMARY:No Cost CPR/First Aid (Rockville Centre)   Held in English
DESCRIPTION:CSEA/VOICE is covering the cost for an Infant/Child and Adult CPR and First Aid training class with funds negotiated in our latest contract with OCFS and New York State. The class is open to Legally Exempt\, Family Child Care and Group Family Childcare providers\, their staff\, and volunteers requiring certification and/or renewal within 90 days. \nDate(s): Saturday April 6\, 2024 Time: 9:30 AM to 3:30 PM Location: Lakeview Public Library (Rockville Centre)                 1120 Woodfield Road                 Rockville Centre\, NY 11570                  \nEach participant will receive training hours in OCFS topic areas 2 – Nutrition and Health Needs of Infants and Children and 4 – Safety & Security Procedures. \nPlease Note: there is a 3 person limit per child care program.*Reservations Required.*  Seats are limited. \nPlease click on this link to register:https://www.csealearningcenter.org/help/loginmember.cfm?cca=2If you have difficulty registering online you may call 1-855-472-6848 for assistance.
URL:https://voicecsea.org/event/no-cost-cpr-first-aid-rockville-centre-held-in-english/
CATEGORIES:CPR Training
END:VEVENT
BEGIN:VEVENT
DTSTART;TZID=America/New_York:20240406T110000
DTEND;TZID=America/New_York:20240406T150000
DTSTAMP:20260425T083820
CREATED:20240312T140451Z
LAST-MODIFIED:20240312T140828Z
UID:5192-1712401200-1712415600@voicecsea.org
SUMMARY:No Cost CPR/First Aid (Queensbury)   Held in English
DESCRIPTION:CSEA/VOICE is covering the cost for an Infant/Child and Adult CPR and First Aid training class with funds negotiated in our latest contract with OCFS and New York State. The class is open to Legally Exempt\, Family Child Care and Group Family Childcare providers\, their staff\, and volunteers requiring certification and/or renewal within 90 days. \nDate(s): Saturday April 6\, 2024 Time: 11:00 AM to 3:00 PM Location: Queensbury Holiday Inn Express                 216 Corinth Road                 Queensbury\, NY 12804                  \nEach participant will receive training hours in OCFS topic areas 2 – Nutrition and Health Needs of Infants and Children and 4 – Safety & Security Procedures. \nPlease Note: there is a 3 person limit per child care program.*Reservations Required.*  Seats are limited. \nPlease click on this link to register:https://www.csealearningcenter.org/help/loginmember.cfm?cca=2If you have difficulty registering online you may call 1-855-472-6848 for assistance.
URL:https://voicecsea.org/event/no-cost-cpr-first-aid-queensbury-held-in-english/
CATEGORIES:CPR Training
END:VEVENT
BEGIN:VEVENT
DTSTART;TZID=America/New_York:20240407T090000
DTEND;TZID=America/New_York:20240407T130000
DTSTAMP:20260425T083820
CREATED:20240312T140505Z
LAST-MODIFIED:20240312T140720Z
UID:5195-1712480400-1712494800@voicecsea.org
SUMMARY:No Cost CPR/First Aid (Utica)   Held in English
DESCRIPTION:CSEA/VOICE is covering the cost for an Infant/Child and Adult CPR and First Aid training class with funds negotiated in our latest contract with OCFS and New York State. The class is open to Legally Exempt\, Family Child Care and Group Family Childcare providers\, their staff\, and volunteers requiring certification and/or renewal within 90 days. \nDate(s): Sunday April 7\, 2024 Time: 9:00 AM to 1:00 PM Location: Midstate Emergency Medical Services(Utica)                 14 Foery Drive                 Utica\, NY 13501                  \nEach participant will receive training hours in OCFS topic areas 2 – Nutrition and Health Needs of Infants and Children and 4 – Safety & Security Procedures. \nPlease Note: there is a 3 person limit per child care program.*Reservations Required.*  Seats are limited. \nPlease click on this link to register:https://www.csealearningcenter.org/help/loginmember.cfm?cca=2If you have difficulty registering online you may call 1-855-472-6848 for assistance.
URL:https://voicecsea.org/event/no-cost-cpr-first-aid-utica-held-in-english/
CATEGORIES:CPR Training
END:VEVENT
BEGIN:VEVENT
DTSTART;TZID=America/New_York:20240411T090000
DTEND;TZID=America/New_York:20240411T150000
DTSTAMP:20260425T083820
CREATED:20240415T155442Z
LAST-MODIFIED:20240415T155834Z
UID:5384-1712826000-1712847600@voicecsea.org
SUMMARY:No cost CPR/First Aid - Herkimer Oneida Madison
DESCRIPTION:CSEA/VOICE is covering the cost for an Infant/Child and Adult CPR and First Aid training class with funds negotiated in our latest contract with OCFS and New York State. The class is open to Legally Exempt\, Family Child Care and Group Family Childcare providers\, their staff\, and volunteers requiring certification and/or renewal within 90 days. \nIn-Person English Only Training: \nDate: Saturday May 11\, 2024\nTime: 9:00 AM to 3:00 PM\nLocation:  Holy Trinity Lutheran Church (Little Falls)\n512 E. Gansevoort Street\nLittle Falls\, NY 13365 \nEach participant will receive training hours in OCFS topic areas 2 – Nutrition and Health Needs of Infants and Children and 4 – Safety & Security Procedures. \nPlease Note: there is a 3 person limit per child care program.\n*Reservations Required.* Seats are limited. \nPlease click on this link to register: https://www.csealearningcenter.org/help/loginmember.cfm?cca=2 \nIf you have difficulty registering online you may call 1-855-472-6848 for assistance.
URL:https://voicecsea.org/event/no-cost-cpr-first-aid-herkimer-oneida-madison/
LOCATION:Holy Trinity Lutheran Church ILittle Falls)\, 512 E. Gansevoort St.\, Little Falls\, NY\, 13365\, United States
CATEGORIES:CPR Training
END:VEVENT
BEGIN:VEVENT
DTSTART;TZID=America/New_York:20240413T090000
DTEND;TZID=America/New_York:20240413T140000
DTSTAMP:20260425T083820
CREATED:20240319T211411Z
LAST-MODIFIED:20240322T135941Z
UID:5221-1712998800-1713016800@voicecsea.org
SUMMARY:**No Cost CPR/First Aid (Albany\, Schenectady\, Rensselaer\, Saratoga) **  Held in English
DESCRIPTION:CSEA/VOICE is covering the cost for an Infant/Child and Adult CPR and First Aid training class with funds negotiated in our latest contract with OCFS and New York State. The class is open to Legally Exempt\, Family Child Care and Group Family Childcare providers\, their staff\, and volunteers requiring certification and/or renewal within 90 days. \nDate(s): Saturday April 13\, 2024 Time: 9:00 AM to 2:00 PM Location: The Lutheran Church of the Holy Spirit (Albany)                 57 Hurlbut St                 Albany\, NY 12209                  \nEach participant will receive training hours in OCFS topic areas 2 – Nutrition and Health Needs of Infants and Children and 4 – Safety & Security Procedures. \nPlease Note: there is a 3 person limit per child care program.*Reservations Required.*  Seats are limited. \nPlease click on this link to register:https://www.csealearningcenter.org/help/loginmember.cfm?cca=2If you have difficulty registering online you may call 1-855-472-6848 for assistance.
URL:https://voicecsea.org/event/no-cost-cpr-first-aid-albany-schenectady-rensselaer-saratoga-held-in-english/
CATEGORIES:CPR Training
END:VEVENT
BEGIN:VEVENT
DTSTART;TZID=America/New_York:20240413T090000
DTEND;TZID=America/New_York:20240413T140000
DTSTAMP:20260425T083820
CREATED:20240319T211412Z
LAST-MODIFIED:20240322T135941Z
UID:5223-1712998800-1713016800@voicecsea.org
SUMMARY:**No Cost CPR/First Aid (Clinton\, Essex\, Franklin\, Hamilton) **  Held in English
DESCRIPTION:CSEA/VOICE is covering the cost for an Infant/Child and Adult CPR and First Aid training class with funds negotiated in our latest contract with OCFS and New York State. The class is open to Legally Exempt\, Family Child Care and Group Family Childcare providers\, their staff\, and volunteers requiring certification and/or renewal within 90 days. \nDate(s): Saturday April 13\, 2024 Time: 9:00 AM to 2:00 PM Location: National Safety Awareness (Plattsburgh)                 60 Couch Street                 Plattsburgh\, NY 12901                  \nEach participant will receive training hours in OCFS topic areas 2 – Nutrition and Health Needs of Infants and Children and 4 – Safety & Security Procedures. \nPlease Note: there is a 3 person limit per child care program.*Reservations Required.*  Seats are limited. \nPlease click on this link to register:https://www.csealearningcenter.org/help/loginmember.cfm?cca=2If you have difficulty registering online you may call 1-855-472-6848 for assistance.
URL:https://voicecsea.org/event/no-cost-cpr-first-aid-clinton-essex-franklin-hamilton-held-in-english/
CATEGORIES:CPR Training
END:VEVENT
BEGIN:VEVENT
DTSTART;TZID=America/New_York:20240413T090000
DTEND;TZID=America/New_York:20240413T140000
DTSTAMP:20260425T083820
CREATED:20240319T211412Z
LAST-MODIFIED:20240322T135941Z
UID:5224-1712998800-1713016800@voicecsea.org
SUMMARY:**No Cost CPR/First Aid (Onondaga\, Cayuga) **  Held in English
DESCRIPTION:CSEA/VOICE is covering the cost for an Infant/Child and Adult CPR and First Aid training class with funds negotiated in our latest contract with OCFS and New York State. The class is open to Legally Exempt\, Family Child Care and Group Family Childcare providers\, their staff\, and volunteers requiring certification and/or renewal within 90 days. \nDate(s): Saturday April 13\, 2024 Time: 9:00 AM to 2:00 PM Location: Office Building(Syracuse)                 404 Oak Street\, Suite 291 (Second Floor)                 Syracuse\, NY 13203                  \nEach participant will receive training hours in OCFS topic areas 2 – Nutrition and Health Needs of Infants and Children and 4 – Safety & Security Procedures. \nPlease Note: there is a 3 person limit per child care program.*Reservations Required.*  Seats are limited. \nPlease click on this link to register:https://www.csealearningcenter.org/help/loginmember.cfm?cca=2If you have difficulty registering online you may call 1-855-472-6848 for assistance.
URL:https://voicecsea.org/event/no-cost-cpr-first-aid-onondaga-cayuga-held-in-english/
CATEGORIES:CPR Training
END:VEVENT
BEGIN:VEVENT
DTSTART;TZID=America/New_York:20240420T083000
DTEND;TZID=America/New_York:20240420T133000
DTSTAMP:20260425T083820
CREATED:20240319T211413Z
LAST-MODIFIED:20240322T135942Z
UID:5227-1713601800-1713619800@voicecsea.org
SUMMARY:**No Cost CPR/First Aid (Tompkins\, Cortland\, Chemung\, Schuyler) **  Held in English
DESCRIPTION:CSEA/VOICE is covering the cost for an Infant/Child and Adult CPR and First Aid training class with funds negotiated in our latest contract with OCFS and New York State. The class is open to Legally Exempt\, Family Child Care and Group Family Childcare providers\, their staff\, and volunteers requiring certification and/or renewal within 90 days. \nDate(s): Saturday April 20\, 2024 Time: 8:30 AM to 1:30 PM Location: CPR Practive LLC (Chemung County)                 309 Larchmont Road                 Elmira\, NY 14905                  \nEach participant will receive training hours in OCFS topic areas 2 – Nutrition and Health Needs of Infants and Children and 4 – Safety & Security Procedures. \nPlease Note: there is a 3 person limit per child care program.*Reservations Required.*  Seats are limited. \nPlease click on this link to register:https://www.csealearningcenter.org/help/loginmember.cfm?cca=2If you have difficulty registering online you may call 1-855-472-6848 for assistance.
URL:https://voicecsea.org/event/no-cost-cpr-first-aid-tompkins-cortland-chemung-schuyler-held-in-english/
CATEGORIES:CPR Training
END:VEVENT
BEGIN:VEVENT
DTSTART;TZID=America/New_York:20240420T090000
DTEND;TZID=America/New_York:20240420T140000
DTSTAMP:20260425T083820
CREATED:20240319T211413Z
LAST-MODIFIED:20240322T135942Z
UID:5226-1713603600-1713621600@voicecsea.org
SUMMARY:**No Cost CPR/First Aid (Orange\, Sullivan) **  Held in English
DESCRIPTION:CSEA/VOICE is covering the cost for an Infant/Child and Adult CPR and First Aid training class with funds negotiated in our latest contract with OCFS and New York State. The class is open to Legally Exempt\, Family Child Care and Group Family Childcare providers\, their staff\, and volunteers requiring certification and/or renewal within 90 days. \nDate(s): Saturday April 20\, 2024 Time: 9:00 AM to 2:00 PM Location: Middletown Thrall Library (Middletown)                 11 Depot Street                 Middletown\, NY 10904                  \nEach participant will receive training hours in OCFS topic areas 2 – Nutrition and Health Needs of Infants and Children and 4 – Safety & Security Procedures. \nPlease Note: there is a 3 person limit per child care program.*Reservations Required.*  Seats are limited. \nPlease click on this link to register:https://www.csealearningcenter.org/help/loginmember.cfm?cca=2If you have difficulty registering online you may call 1-855-472-6848 for assistance.
URL:https://voicecsea.org/event/no-cost-cpr-first-aid-orange-sullivan-held-in-english/
CATEGORIES:CPR Training
END:VEVENT
BEGIN:VEVENT
DTSTART;TZID=America/New_York:20240420T090000
DTEND;TZID=America/New_York:20240420T140000
DTSTAMP:20260425T083820
CREATED:20240418T175144Z
LAST-MODIFIED:20240418T175144Z
UID:5412-1713603600-1713621600@voicecsea.org
SUMMARY:**No Cost CPR/First Aid (Ulster) **  Held in English
DESCRIPTION:CSEA/VOICE is covering the cost for an Infant/Child and Adult CPR and First Aid training class with funds negotiated in our latest contract with OCFS and New York State. The class is open to Legally Exempt\, Family Child Care and Group Family Childcare providers\, their staff\, and volunteers requiring certification and/or renewal within 90 days. \nDate: Saturday April 20\, 2024 Time: 9:00 AM to 2:00 PM Location: CSEA Ulster County (Columbia & Greene)                 200 Stockade Drive                 Kingston\, NY 12401                  \nEach participant will receive training hours in OCFS topic areas 2 – Nutrition and Health Needs of Infants and Children and 4 – Safety & Security Procedures. \nPlease Note: there is a 3 person limit per child care program.*Reservations Required.*  Seats are limited. \nPlease click on this link to register:https://www.csealearningcenter.org/help/loginmember.cfm?cca=2If you have difficulty registering online you may call 1-855-472-6848 for assistance.
URL:https://voicecsea.org/event/no-cost-cpr-first-aid-ulster-held-in-english/
CATEGORIES:CPR Training
END:VEVENT
BEGIN:VEVENT
DTSTART;TZID=America/New_York:20240420T100000
DTEND;TZID=America/New_York:20240420T150000
DTSTAMP:20260425T083820
CREATED:20240319T211412Z
LAST-MODIFIED:20240322T135941Z
UID:5225-1713607200-1713625200@voicecsea.org
SUMMARY:**No Cost CPR/First Aid (Westchester\, Putnam) **  Held in English
DESCRIPTION:CSEA/VOICE is covering the cost for an Infant/Child and Adult CPR and First Aid training class with funds negotiated in our latest contract with OCFS and New York State. The class is open to Legally Exempt\, Family Child Care and Group Family Childcare providers\, their staff\, and volunteers requiring certification and/or renewal within 90 days. \nDate(s): Saturday April 20\, 2024 Time: 10:00 AM to 3:00 PM Location: Greenburgh Library(Elmsford)                 300 Tarrytown Road                 Elmsford\, NY 10523                  \nEach participant will receive training hours in OCFS topic areas 2 – Nutrition and Health Needs of Infants and Children and 4 – Safety & Security Procedures. \nPlease Note: there is a 3 person limit per child care program.*Reservations Required.*  Seats are limited. \nPlease click on this link to register:https://www.csealearningcenter.org/help/loginmember.cfm?cca=2If you have difficulty registering online you may call 1-855-472-6848 for assistance.
URL:https://voicecsea.org/event/no-cost-cpr-first-aid-westchester-putnam-held-in-english-4/
CATEGORIES:CPR Training
END:VEVENT
BEGIN:VEVENT
DTSTART;TZID=America/New_York:20240421T090000
DTEND;TZID=America/New_York:20240421T150000
DTSTAMP:20260425T083820
CREATED:20240418T175144Z
LAST-MODIFIED:20240418T175144Z
UID:5413-1713690000-1713711600@voicecsea.org
SUMMARY:**Capacitacion gratuita de RCP/Primeros Auxilios!** (Nassau)  Capacitación en persona solo en español
DESCRIPTION:CSEA/VOICE está cubriendo el costo del entrenamiento RCP y primero auxilios para bebés/niños y adultos con fondos negociado con en nuestro último contrato con OCFS y el estado de Nueva York.  La clase está abierta a proveedores legalmente exentos\, de cuidado infantil familiar y de cuidado infantil familiar grupal\, su personal y voluntarios que requieran certificación y/o renovación dentro de los 90 días. \nFecha: Sunday April 21\, 2024 Horario: 9:00 AM to 3:00 PM Ubicación:     The Music Mall (Freeport)                     475 Babylon Turnpike                     Freeport\, NY 11520                  \nCada participante recibirá horas de capacitación en las áreas temáticas de OCFS 2: Necesidades de nutrición y salud de bebés y niños y 4: Procedimientos de seguridad y protección. \nPor favor anote: un límite de 3 personas por programa de cuidado infantil por entrenamiento. \n*Reservaciones requerido* \nAsientos limitados. \nPor favor darle clic aquí para registrarse en línea:https://www.csealearningcenter.org/help/loginmember.cfm?cca=2Si tienen dificultades para registrarse en línea\, pueden llamar al 1-855-472-6848 para obtener ayuda.
URL:https://voicecsea.org/event/capacitacion-gratuita-de-rcp-primeros-auxilios-nassau-capacitacin-en-persona-solo-en-espaol-2/
CATEGORIES:CPR Training
END:VEVENT
BEGIN:VEVENT
DTSTART;TZID=America/New_York:20240427T083000
DTEND;TZID=America/New_York:20240427T133000
DTSTAMP:20260425T083820
CREATED:20240401T151744Z
LAST-MODIFIED:20240401T151744Z
UID:5262-1714206600-1714224600@voicecsea.org
SUMMARY:**No Cost CPR/First Aid (Wayne\, Ontario\, Yates\, Livingston\, Seneca) **  Held in English
DESCRIPTION:CSEA/VOICE is covering the cost for an Infant/Child and Adult CPR and First Aid training class with funds negotiated in our latest contract with OCFS and New York State. The class is open to Legally Exempt\, Family Child Care and Group Family Childcare providers\, their staff\, and volunteers requiring certification and/or renewal within 90 days. \nDate: Saturday April 27\, 2024 Time: 8:30 AM to 1:30 PM Location: Holiday Inn Express (Ontario County)                 330 Eastern Blvd                 Canandaigua\, NY 14424                  \nEach participant will receive training hours in OCFS topic areas 2 – Nutrition and Health Needs of Infants and Children and 4 – Safety & Security Procedures. \nPlease Note: there is a 3 person limit per child care program.*Reservations Required.*  Seats are limited. \nPlease click on this link to register:https://www.csealearningcenter.org/help/loginmember.cfm?cca=2If you have difficulty registering online you may call 1-855-472-6848 for assistance.
URL:https://voicecsea.org/event/no-cost-cpr-first-aid-wayne-ontario-yates-livingston-seneca-held-in-english-2/
CATEGORIES:CPR Training
END:VEVENT
BEGIN:VEVENT
DTSTART;TZID=America/New_York:20240427T090000
DTEND;TZID=America/New_York:20240427T140000
DTSTAMP:20260425T083820
CREATED:20240401T151744Z
LAST-MODIFIED:20240401T151744Z
UID:5263-1714208400-1714226400@voicecsea.org
SUMMARY:**No Cost CPR/First Aid (Orange\, Sullivan) **  Held in English
DESCRIPTION:CSEA/VOICE is covering the cost for an Infant/Child and Adult CPR and First Aid training class with funds negotiated in our latest contract with OCFS and New York State. The class is open to Legally Exempt\, Family Child Care and Group Family Childcare providers\, their staff\, and volunteers requiring certification and/or renewal within 90 days. \nDate: Saturday April 27\, 2024 Time: 9:00 AM to 2:00 PM Location: National Safety Awareness (Newburgh)                 46 D’Alfonso Road                 Newburgh\, NY 12550                  \nEach participant will receive training hours in OCFS topic areas 2 – Nutrition and Health Needs of Infants and Children and 4 – Safety & Security Procedures. \nPlease Note: there is a 3 person limit per child care program.*Reservations Required.*  Seats are limited. \nPlease click on this link to register:https://www.csealearningcenter.org/help/loginmember.cfm?cca=2If you have difficulty registering online you may call 1-855-472-6848 for assistance.
URL:https://voicecsea.org/event/no-cost-cpr-first-aid-orange-sullivan-held-in-english-2/
CATEGORIES:CPR Training
END:VEVENT
BEGIN:VEVENT
DTSTART;TZID=America/New_York:20240427T103000
DTEND;TZID=America/New_York:20240427T153000
DTSTAMP:20260425T083820
CREATED:20240401T151744Z
LAST-MODIFIED:20240401T151744Z
UID:5264-1714213800-1714231800@voicecsea.org
SUMMARY:**Capacitacion gratuita de RCP/Primeros Auxilios!** (Westchester\, Putnam)  Capacitación en persona solo en español
DESCRIPTION:CSEA/VOICE está cubriendo el costo del entrenamiento RCP y primero auxilios para bebés/niños y adultos con fondos negociado con en nuestro último contrato con OCFS y el estado de Nueva York.  La clase está abierta a proveedores legalmente exentos\, de cuidado infantil familiar y de cuidado infantil familiar grupal\, su personal y voluntarios que requieran certificación y/o renovación dentro de los 90 días. \nFecha: Saturday April 27\, 2024 Horario: 10:30 AM to 3:30 PM Ubicación:     Riverfront Library (Yonkers)                     1 Larkin Center                     Yonkers\, NY 10701                  \nCada participante recibirá horas de capacitación en las áreas temáticas de OCFS 2: Necesidades de nutrición y salud de bebés y niños y 4: Procedimientos de seguridad y protección. \nPor favor anote: un límite de 3 personas por programa de cuidado infantil por entrenamiento. \n*Reservaciones requerido* \nAsientos limitados. \nPor favor darle clic aquí para registrarse en línea:https://www.csealearningcenter.org/help/loginmember.cfm?cca=2Si tienen dificultades para registrarse en línea\, pueden llamar al 1-855-472-6848 para obtener ayuda.
URL:https://voicecsea.org/event/capacitacion-gratuita-de-rcp-primeros-auxilios-westchester-putnam-capacitacin-en-persona-solo-en-espaol/
CATEGORIES:CPR Training
END:VEVENT
END:VCALENDAR