BEGIN:VCALENDAR
VERSION:2.0
PRODID:-//Voice - ECPv6.1.3//NONSGML v1.0//EN
CALSCALE:GREGORIAN
METHOD:PUBLISH
X-ORIGINAL-URL:https://voicecsea.org
X-WR-CALDESC:Events for Voice
REFRESH-INTERVAL;VALUE=DURATION:PT1H
X-Robots-Tag:noindex
X-PUBLISHED-TTL:PT1H
BEGIN:VTIMEZONE
TZID:America/New_York
BEGIN:DAYLIGHT
TZOFFSETFROM:-0500
TZOFFSETTO:-0400
TZNAME:EDT
DTSTART:20230312T070000
END:DAYLIGHT
BEGIN:STANDARD
TZOFFSETFROM:-0400
TZOFFSETTO:-0500
TZNAME:EST
DTSTART:20231105T060000
END:STANDARD
END:VTIMEZONE
BEGIN:VEVENT
DTSTART;TZID=America/New_York:20230506T073000
DTEND;TZID=America/New_York:20230506T160000
DTSTAMP:20260422T223745
CREATED:20230328T162519Z
LAST-MODIFIED:20230406T143725Z
UID:2974-1683358200-1683388800@voicecsea.org
SUMMARY:'Lifting our VOICE' Regional Conference - Melville\, NY
DESCRIPTION:LIFTING OUR VOICE\nThis Spring\, CSEA/VOICE will be holding 3 Regional Conferences across the state. You are invited to join us for the day at the Hilton in Melville on Saturday May 6! Sharpen your mind and feed your soul as we lift our voices together! Lunch will be provided. Register to attend any one of the three locations at no cost to you. Earn up to 6 OCFS approved Training Hours! \nCLICK HERE TO DOWNLOAD THE CONFERENCE AGENDA \nRegistration opens today for the Long Island/Huntington Hilton at 598 Broad Hollow Rd\, Melville\, NY 11747. \nFirst come\, first served. *Space is limited. \n\nMEMBERS REGISTER ONLINE: REGISTER HERE FOR THE MELVILLE LOCATION\n\n\nNON-MEMBERS CALL TO REGISTER:  518-257-1214 between 8:30 a.m. and 4:30 p.m.\n\nRegistration opens on 4/5 for Rochester and on 4/26 for Saratoga Springs. \nCall 877-483-2732 or email voice@cseainc.org with any conference questions.\nFor registration questions\, please call 518-257-1214 between 8:30 a.m. and 4:30 p.m. \nLocation:\nLong Island/Huntington Hilton
URL:https://voicecsea.org/event/lifting-our-voice-regional-conference-melville-ny/
LOCATION:Long Island/Huntington Hilton\, 598 Broad Hollow Rd\, Melville\, 11747
ATTACH;FMTTYPE=image/jpeg:https://voicecsea.org/wp-content/uploads/2023/04/Lifting_Our_VOICE.jpeg
END:VEVENT
BEGIN:VEVENT
DTSTART;TZID=America/New_York:20230506T073000
DTEND;TZID=America/New_York:20230506T160000
DTSTAMP:20260422T223745
CREATED:20231211T153540Z
LAST-MODIFIED:20231211T153540Z
UID:4199-1683358200-1683388800@voicecsea.org
SUMMARY:'Lifting our VOICE' Regional Conference - Melville\, NY
DESCRIPTION:LIFTING OUR VOICE \nThis Spring\, CSEA/VOICE will be holding 3 Regional Conferences across the state. You are invited to join us for the day at the Hilton in Melville on Saturday May 6! Sharpen your mind and feed your soul as we lift our voices together! Lunch will be provided. Register to attend any one of the three locations at no cost to you. Earn up to 6 OCFS approved Training Hours! \nCLICK HERE TO DOWNLOAD THE CONFERENCE AGENDA \nRegistration opens today for the Long Island/Huntington Hilton at 598 Broad Hollow Rd\, Melville\, NY 11747. \nFirst come\, first served. *Space is limited. \n\nMEMBERS REGISTER ONLINE: REGISTER HERE FOR THE MELVILLE LOCATION\n\n\nNON-MEMBERS CALL TO REGISTER:  518-257-1214 between 8:30 a.m. and 4:30 p.m.\n\nRegistration opens on 4/5 for Rochester and on 4/26 for Saratoga Springs. \nCall 877-483-2732 or email voice@cseainc.org with any conference questions.\nFor registration questions\, please call 518-257-1214 between 8:30 a.m. and 4:30 p.m.
URL:https://voicecsea.org/event/lifting-our-voice-regional-conference-melville-ny-2/
END:VEVENT
BEGIN:VEVENT
DTSTART;TZID=America/New_York:20230517T190000
DTEND;TZID=America/New_York:20230517T213000
DTSTAMP:20260422T223745
CREATED:20231211T153512Z
LAST-MODIFIED:20231211T153512Z
UID:4197-1684350000-1684359000@voicecsea.org
SUMMARY:Nassau Chapter Meeting
DESCRIPTION:CSEA/VOICE invites you to join us for a Nassau Chapter meeting.  Meet your Chapter Representative and colleagues.  The CSEA Member Benefits Department will be in attendance to share information and answer any questions you may have about the many benefits our union provides to members. We will also discuss ways to continue building our chapter membership\, enjoy food\, raffles\, receive VOICE updates as well as information on the topics listed below. \nMUST BE A MEMBER TO ATTEND \nDate: Wednesday\, May 17 2023\nTime:   7:00 p.m. – 9:30 p.m. \nLocation: Bobby Q’s Restaurant\n365 W Sunrise Hwy\nFreeport\, NY 11520 \n*Registration is required to attend.* \nREGISTER ONLINE HERE: https://memberlink.cseany.org/Event.axd?e=962\, \nby calling the CSEA/VOICE Resource Center at (877) 483-2732 or via email at voice@cseainc.org. \nMEETING AGENDA: \n1. Welcome/ Introductions\n2. Member Benefits\n4. VOICE updates\n5. Membership\n6. Professional Development/Trainings\n7. Nassau CCAP updates\n8.  Other Business\n9.  Next meeting & Closing
URL:https://voicecsea.org/event/nassau-chapter-meeting/
END:VEVENT
BEGIN:VEVENT
DTSTART;TZID=America/New_York:20230520T073000
DTEND;TZID=America/New_York:20230520T160000
DTSTAMP:20260422T223745
CREATED:20231211T153429Z
LAST-MODIFIED:20231211T153429Z
UID:4195-1684567800-1684598400@voicecsea.org
SUMMARY:'Lifting our VOICE' Regional Conference - Rochester\, NY
DESCRIPTION:LIFTING OUR VOICE\nThis Spring\, CSEA/VOICE will be holding 3 Regional Conferences across the state. You are invited to join us for the day at the Rochester Convention Center on Saturday\, May 20! Sharpen your mind and feed your soul as we lift our voices together! Lunch will be provided. Register to attend any one of the three locations at no cost to you. Earn up to 6 OCFS approved Training Hours! \nCLICK HERE TO DOWNLOAD THE LONG CONFERENCE AGENDA\nThe Rochester Agenda will be posted soon. \nRegistration opens 4/5  for the Rochester location held at the Rochester Riverside Convention Center\, 123 E Main St\, Rochester\, NY 14604 \nFirst come\, first served. *Space is limited. \n\nMEMBERS REGISTER ONLINE on or after 4/5\nNON-MEMBERS CALL TO REGISTER on or after 4/5:  518-257-1214 between 8:30 a.m. and 4:30 p.m.\n\nRegistration is already open for the Long Island location. Registration opens on 4/26 for Saratoga Springs. \nCall 877-483-2732 or email voice@cseainc.org with any conference questions.\nFor registration questions\, please call 518-257-1214 between 8:30 a.m. and 4:30 p.m.
URL:https://voicecsea.org/event/lifting-our-voice-regional-conference-rochester-ny/
END:VEVENT
END:VCALENDAR