BEGIN:VCALENDAR
VERSION:2.0
PRODID:-//Voice - ECPv6.1.3//NONSGML v1.0//EN
CALSCALE:GREGORIAN
METHOD:PUBLISH
X-WR-CALNAME:Voice
X-ORIGINAL-URL:https://voicecsea.org
X-WR-CALDESC:Events for Voice
REFRESH-INTERVAL;VALUE=DURATION:PT1H
X-Robots-Tag:noindex
X-PUBLISHED-TTL:PT1H
BEGIN:VTIMEZONE
TZID:America/New_York
BEGIN:DAYLIGHT
TZOFFSETFROM:-0500
TZOFFSETTO:-0400
TZNAME:EDT
DTSTART:20230312T070000
END:DAYLIGHT
BEGIN:STANDARD
TZOFFSETFROM:-0400
TZOFFSETTO:-0500
TZNAME:EST
DTSTART:20231105T060000
END:STANDARD
END:VTIMEZONE
BEGIN:VEVENT
DTSTART;TZID=America/New_York:20231101T183000
DTEND;TZID=America/New_York:20231101T193000
DTSTAMP:20260423T105141
CREATED:20231211T143954Z
LAST-MODIFIED:20231211T143954Z
UID:4094-1698863400-1698867000@voicecsea.org
SUMMARY:Onondaga Cayuga Chapter Meeting
DESCRIPTION:Dear {{ FirstName | default: ‘Provider’ }}\, \nCSEA/VOICE invites you to join us for an informational Meeting for the Onondaga and Cayuga Chapter. Plan now to attend this meeting and meet your new Chapter Representative Cassandra Stanfield. We will also discuss upcoming training\, membership\, market rate survey and other pertinent information. \nDate: Wednesday\, November 1\, 2023\nTime: 6:30 p.m. – 7:30 p.m.\nLocation:  The Guest House\n722 West Manlius St\nEast Syracuse NY 13057\nGet Directions – https://maps.app.goo.gl/zn42U4YJLRBD7jzL8 \nLight snacks and refreshments will be served at this meeting.\n*Registration is required to attend. * \n*Members* register via Member link at:\nhttps://memberlink.cseany.org/Event.axd?e=1168 \n*Non-Members register via member link at:\nhttps://memberlink.cseany.org/NonMemberEvent.axd?e=1168 \nOr by calling the CSEA/VOICE Resource Center at (877) 483-2732 or via email at voice@cseainc.org. \nMEETING AGENDA:\n \n1. Welcome/ Introductions\n2. Market Rate Survey\n3. DSS Updates\n4. Membership/Leadership\n5.VOICE Updates\n6. Professional Development: Trainings\n7. Stabilization and Other Business\n8. Next Meeting and Closing
URL:https://voicecsea.org/event/onondaga-cayuga-chapter-meeting/
END:VEVENT
BEGIN:VEVENT
DTSTART;TZID=America/New_York:20231104T090000
DTEND;TZID=America/New_York:20231104T150000
DTSTAMP:20260423T105141
CREATED:20231211T143919Z
LAST-MODIFIED:20231211T143919Z
UID:4091-1699088400-1699110000@voicecsea.org
SUMMARY:No Cost CPR/First Aid – Ulster\, Columbia\, and Greene County
DESCRIPTION:CSEA/VOICE is covering the cost for an Infant/Child and Adult CPR and First Aid training class with funds negotiated in our latest contract with OCFS and New York State. The class is open to Legally Exempt\, Family Child Care and Group Family Childcare providers\, their staff\, and volunteers requiring certification and/or renewal within 90 days. \nDate: Saturday\, November 4\, 2023\nTime: 9:00 a.m. – 2:00 p.m.\nLocation: Ulster County CSEA Office\n200 Stockade Drive\nKingston NY\, 12401 \nEach participant will receive training hours in OCFS topic area 4 Safety & Security. \nPlease note there is a 3-person limit per childcare program.\n*Reservations Required. * Seats are limited. \nPlease click on this link to register: https://csealearningcenter.org/help/loginmember.cfm?cca=2\nor call 1-855-472-6848 if you have any questions.
URL:https://voicecsea.org/event/no-cost-cpr-first-aid-ulster-columbia-and-greene-county/
END:VEVENT
BEGIN:VEVENT
DTSTART;TZID=America/New_York:20231104T093000
DTEND;TZID=America/New_York:20231104T153000
DTSTAMP:20260423T105141
CREATED:20231211T143628Z
LAST-MODIFIED:20231211T143628Z
UID:4089-1699090200-1699111800@voicecsea.org
SUMMARY:No Cost CPR/First Aid - Nassau (ENGLISH ONLY)
DESCRIPTION:CSEA/VOICE is covering the cost for an Infant/Child and Adult CPR and First Aid training class with funds negotiated in our latest contract with OCFS and New York State. The class is open to Legally Exempt\, Family Child Care and Group Family Childcare providers\, their staff\, and volunteers requiring certification and/or renewal within 90 days. \nIn-Person English Only Training:  \nDate: Saturday November 4\, 2023\nTime: 9:30 a.m. to 3:30 p.m.\nLocation:  Lakeview Public Library\n1120 Woodfield Rd\nRockville Center\, NY 11570 \nEach participant will receive training hours in OCFS topic area 4 Safety & Security \nPlease note there is a 3-person limit per child care program.\n*Reservations Required.* Seats are limited. \nPlease click on this link to REGISTER :\nhttps://csealearningcenter.org/help/loginmember.cfm?cca=2\nIf you have difficulty registering online you may call 1-855-472-6848 for assistance.
URL:https://voicecsea.org/event/no-cost-cpr-first-aid-nassau-english-only/
END:VEVENT
BEGIN:VEVENT
DTSTART;TZID=America/New_York:20231111T090000
DTEND;TZID=America/New_York:20231111T140000
DTSTAMP:20260423T105141
CREATED:20231211T143539Z
LAST-MODIFIED:20231211T143539Z
UID:4087-1699693200-1699711200@voicecsea.org
SUMMARY:No Cost CPR/First Aid - English Only Training - Onondaga- Cayuga Chapter
DESCRIPTION:CSEA/VOICE is covering the cost for an Infant/Child and Adult CPR and First Aid training class with funds negotiated in our latest contract with OCFS and New York State. The class is open to Legally Exempt\, Family Child Care and Group Family Childcare providers\, their staff\, and volunteers requiring certification and/or renewal within 90 days. \nDate: Saturday\, Novemnber 11\, 2023\nTime: 9:00 a.m. – 2:00 p.m.\nLocation: Office Building (Syracuse)\n404 Oak Street\,  Suite 101\nSyracuse\, NY 13202 \nEach participant will receive training hours in OCFS topic area 4 Safety & Security. \nPlease note there is a 3-person limit per childcare program.\n*Reservations Required.* Seats are limited. \nPlease click on this link to register:\nhttps://csealearningcenter.org/help/loginmember.cfm?cca=2\nIf you have difficulty registering online you may call 1-855-472-6848 for assistance.
URL:https://voicecsea.org/event/no-cost-cpr-first-aid-english-only-training-onondaga-cayuga-chapter/
END:VEVENT
BEGIN:VEVENT
DTSTART;TZID=America/New_York:20231118T090000
DTEND;TZID=America/New_York:20231118T140000
DTSTAMP:20260423T105141
CREATED:20231211T143237Z
LAST-MODIFIED:20231211T143237Z
UID:4081-1700298000-1700316000@voicecsea.org
SUMMARY:Sin costo RCP/Primeros auxilios - Capítulos de Onondaga/Cayuga
DESCRIPTION:CSEA/VOICE está cubriendo el costo de una clase de capacitación en RCP y primeros auxilios para bebés/niños y adultos con fondos negociados en nuestro último contrato con OCFS y el estado de Nueva York. La clase está abierta a proveedores legalmente exentos\, de cuidado infantil familiar y de cuidado infantil familiar grupal\, su personal y voluntarios que requieran certificación y/o renovación dentro de los 90 días. \nCapacitación en persona solo en español: \nFecha: Sábado\, Noviembre 18\, 2023\nHora: 9 a.m. – 3 p.m.\nUbicación:    Office Building (Syracuse)\n404 Oak Street\,  Suite 101\nSyracuse\, NY 13202 \nCada participante recibirá horas de capacitación en el área temática 4 de OCFS: Seguridad y protección \nTenga en cuenta que hay un límite de 3 personas por programa de cuidado infantil. \n*Se requiere reservación.* Los asientos son limitados. \nPor favor haga clic en este enlace para registrarse:\nhttps://csealearningcenter.org/help/loginmember.cfm?cca=2\nSi tiene dificultades para registrarse en línea\, puede llamar al 1-855-472-6848 para obtener ayuda.
URL:https://voicecsea.org/event/sin-costo-rcp-primeros-auxilios-capitulos-de-onondaga-cayuga/
END:VEVENT
BEGIN:VEVENT
DTSTART;TZID=America/New_York:20231118T090000
DTEND;TZID=America/New_York:20231118T150000
DTSTAMP:20260423T105141
CREATED:20231211T143317Z
LAST-MODIFIED:20231211T143317Z
UID:4083-1700298000-1700319600@voicecsea.org
SUMMARY:RCP/Primeros Auxilios sin costo – Nassau (capacitación solo en español) - Held in Spanish
DESCRIPTION:THIS TRAINING WILL BE HELD IN SPANISH ONLY  \nCSEA/VOICE está cubriendo el costo de una clase de capacitación en RCP y primeros auxilios para bebés/niños y adultos con fondos negociados en nuestro último contrato con OCFS y el estado de Nueva York. La clase está abierta a proveedores legalmente exentos\, de cuidado infantil familiar y de cuidado infantil familiar grupal\, su personal y voluntarios que requieran certificación y/o renovación dentro de los 90 días. \nCapacitación solo en español: \nFecha: Sábado\, 18 de Noviembre de 2023\nHora: 9:00 a.m. – 3:00 p.m.\nUbicación: Learn and Play Learning Center\n2163 Grand Avenue\nBaldwin\, NY 11510 \nCada participante recibirá horas de capacitación en el área temática 4 de OCFS\, Seguridad y protección. \nTenga en cuenta que hay un límite de 3 personas por programa de cuidado infantil. *Reservaciones son requeridas. * Cupo es limitado. \nPor favor\, haga clic en este enlace para registrarse: \nhttps://csealearningcenter.org/help/loginmember.cfm?cca=2 o llame al 1-855-472-6848 si tiene alguna pregunta.
URL:https://voicecsea.org/event/rcp-primeros-auxilios-sin-costo-nassau-capacitacion-solo-en-espanol-held-in-spanish/
END:VEVENT
BEGIN:VEVENT
DTSTART;TZID=America/New_York:20231118T120000
DTEND;TZID=America/New_York:20231118T140000
DTSTAMP:20260423T105141
CREATED:20231211T143354Z
LAST-MODIFIED:20231211T143354Z
UID:4085-1700308800-1700316000@voicecsea.org
SUMMARY:Chautauqua Chapter Holiday Party (+meeting)
DESCRIPTION:Chautauqua Chapter Holiday Party \nCSEA/VOICE invites you to come out\, mingle\, meet your Chapter Representative and other leaders. We will enjoy food\, raffles\, and share facts during our union meeting! \nDate: November 18\, 2023\nTime: 12:00 pm – 2:00 pm\nLocation: Lakehouse Tap and Grille\nChautauqua Harbor Hotel\n10 Dunham Avenue\nCeloron\, NY  14720 \nThis meeting is open to members of CSEA/VOICE.\nRegistration is required to attend. Space is limited. \nMembers register here: https://memberlink.cseany.org/Event.axd?e=1175 \nIf you have questions or need further information you can contact the Chautauqua County Chapter Representative Christina Adanti on her cell (716) 373-8678. \nUnsure if you are a member or if you need to register by phone\, please call the CSEA/VOICE Resource Center at (877) 483-2732 or contact us with questions via email at voice@cseainc.org. \nMEETING AGENDA: \n1.   Welcome/ Introductions\n2.   Stabilization Grants\n3.   Membership\n4.   Professional Development: Trainings\n5.   Other Business\n6.   Next meeting & Closing
URL:https://voicecsea.org/event/chautauqua-chapter-holiday-party-meeting/
END:VEVENT
END:VCALENDAR